BEGIN:VCALENDAR
VERSION:2.0
PRODID:-//Squarespace Inc/Squarespace 6//v6//EN
BEGIN:VEVENT
UID:6810f2be59bab813a7ce2868@squarespace.com
DTSTAMP:20250429T154115Z
DTSTART:20250529T120000Z
DTEND:20250529T130000Z
SUMMARY:Zoom Prayer Gathering
END:VEVENT
END:VCALENDAR
