BEGIN:VCALENDAR
VERSION:2.0
PRODID:-//Squarespace Inc/Squarespace 6//v6//EN
BEGIN:VEVENT
UID:683864f200e84f1aae853eb9@squarespace.com
DTSTAMP:20250603T151004Z
DTSTART:20250719T220000Z
DTEND:20250720T020000Z
SUMMARY:MCC at the WooSox
GEO:42.262811;-71.802493
LOCATION:Polar Park\, Worcester\, MA\, USA
END:VEVENT
END:VCALENDAR
