BEGIN:VCALENDAR
VERSION:2.0
PRODID:-//Squarespace Inc/Squarespace 6//v6//EN
BEGIN:VEVENT
UID:686e88bf6ae8dc66559875f9@squarespace.com
DTSTAMP:20250930T161402Z
DTSTART:20251026T190000Z
DTEND:20251026T210000Z
SUMMARY:Trunk or Treat
GEO:42.595832;-71.007374
LOCATION:Middleton Congregational Church\, 66 Maple Street\, Middleton MA 0
 1949\, United States
END:VEVENT
END:VCALENDAR
