BEGIN:VCALENDAR
VERSION:2.0
PRODID:-//Squarespace Inc/Squarespace 6//v6//EN
BEGIN:VEVENT
UID:685ab4429911723d5ac1162b@squarespace.com
DTSTAMP:20250624T142234Z
DTSTART:20251005T150000Z
DTEND:20251005T160000Z
SUMMARY:Topsfield Fair 
GEO:42.62828;-70.943084
LOCATION:Topsfield Fair\, 207 Boston Street\, Topsfield\, MA\, 01983\, Unit
 ed States
END:VEVENT
END:VCALENDAR
