BEGIN:VCALENDAR
VERSION:2.0
PRODID:-//Squarespace Inc/Squarespace 6//v6//EN
BEGIN:VEVENT
UID:69bac035f429a93f91181cb6@squarespace.com
DTSTAMP:20260318T151004Z
DTSTART:20260507T000000Z
DTEND:20260507T020000Z
SUMMARY:Spring Bible Study  
END:VEVENT
END:VCALENDAR
