BEGIN:VCALENDAR
VERSION:2.0
PRODID:-//Squarespace Inc/Squarespace 6//v6//EN
BEGIN:VEVENT
UID:69bac05dd9bfa374b7e64ca8@squarespace.com
DTSTAMP:20260318T151041Z
DTSTART:20260514T000000Z
DTEND:20260514T020000Z
SUMMARY:Spring Bible Study   
END:VEVENT
END:VCALENDAR
