BEGIN:VCALENDAR
VERSION:2.0
PRODID:-//Squarespace Inc/Squarespace 6//v6//EN
BEGIN:VEVENT
UID:69babe41dc62e61a1965eaaf@squarespace.com
DTSTAMP:20260318T150743Z
DTSTART:20260409T000000Z
DTEND:20260409T020000Z
SUMMARY:Spring Bible Study
END:VEVENT
END:VCALENDAR
