BEGIN:VCALENDAR
VERSION:2.0
PRODID:-//Squarespace Inc/Squarespace 6//v6//EN
BEGIN:VEVENT
UID:69bac00d7b407127d8b66522@squarespace.com
DTSTAMP:20260318T150927Z
DTSTART:20260430T000000Z
DTEND:20260430T020000Z
SUMMARY:Spring Bible Study 
END:VEVENT
END:VCALENDAR
