BEGIN:VCALENDAR
VERSION:2.0
PRODID:-//Squarespace Inc/Squarespace 6//v6//EN
BEGIN:VEVENT
UID:6826025b476db10667ab1b28@squarespace.com
DTSTAMP:20250520T154944Z
DTSTART:20250626T000000Z
DTEND:20250626T020000Z
SUMMARY:Spiritual Gifts Course
END:VEVENT
END:VCALENDAR
