BEGIN:VCALENDAR
VERSION:2.0
PRODID:-//Squarespace Inc/Squarespace 6//v6//EN
BEGIN:VEVENT
UID:686e885bda516e2d3343ec05@squarespace.com
DTSTAMP:20250930T161350Z
DTSTART:20251019T163000Z
DTEND:20251019T183000Z
SUMMARY:Pumpkin Carving 
GEO:42.595832;-71.007374
LOCATION:Middleton Congregational Church\, 66 Maple Street\, Middleton\, MA 
 01949\, USA
END:VEVENT
END:VCALENDAR
