BEGIN:VCALENDAR
VERSION:2.0
PRODID:-//Squarespace Inc/Squarespace 6//v6//EN
BEGIN:VEVENT
UID:69a862142cb1f91a5d3173ad@squarespace.com
DTSTAMP:20260304T165030Z
DTSTART:20260329T150000Z
DTEND:20260329T161500Z
SUMMARY:Palm Sunday Worship Service
END:VEVENT
END:VCALENDAR
