BEGIN:VCALENDAR
VERSION:2.0
PRODID:-//Squarespace Inc/Squarespace 6//v6//EN
BEGIN:VEVENT
UID:682ca4a7e898ea49fa6e90bc@squarespace.com
DTSTAMP:20250605T150228Z
DTSTART:20250622T163000Z
DTEND:20250622T180000Z
SUMMARY:Orient Course
GEO:42.59583;-71.007376
LOCATION:Middleton Congregational Church\, 68 Maple Street\, Middleton\, Un
 ited States
END:VEVENT
END:VCALENDAR
