BEGIN:VCALENDAR
VERSION:2.0
PRODID:-//Squarespace Inc/Squarespace 6//v6//EN
BEGIN:VEVENT
UID:686e863f685ff91cac0b28cf@squarespace.com
DTSTAMP:20250812T160454Z
DTSTART:20251023T000000Z
DTEND:20251023T020000Z
SUMMARY:Men's Fall Bible Study
GEO:42.595832;-71.007374
LOCATION:Middleton Congregational Church\, 66 Maple Street\, Middleton\, Un
 ited States
END:VEVENT
END:VCALENDAR
