BEGIN:VCALENDAR
VERSION:2.0
PRODID:-//Squarespace Inc/Squarespace 6//v6//EN
BEGIN:VEVENT
UID:689b66a6590dec43c223a73f@squarespace.com
DTSTAMP:20250812T160805Z
DTSTART:20251002T000000Z
DTEND:20251002T020000Z
SUMMARY:Men's Bible Study
GEO:42.595832;-71.007374
LOCATION:Middleton Congregational Church\, 66 Maple Street\, Middleton\, MA
 \, United States
END:VEVENT
END:VCALENDAR
