BEGIN:VCALENDAR
VERSION:2.0
PRODID:-//Squarespace Inc/Squarespace 6//v6//EN
BEGIN:VEVENT
UID:67d1b10f083ee23f4895b504@squarespace.com
DTSTAMP:20250312T161147Z
DTSTART:20250518T163000Z
DTEND:20250518T173000Z
SUMMARY:Annual Meeting
END:VEVENT
END:VCALENDAR
