BEGIN:VCALENDAR
VERSION:2.0
PRODID:-//Squarespace Inc/Squarespace 6//v6//EN
BEGIN:VEVENT
UID:697b83c01e8a9f29ea96ca8d@squarespace.com
DTSTAMP:20260129T160645Z
DTSTART:20260226T010000Z
DTEND:20260226T030000Z
SUMMARY:Wednesday Night Bible Study
END:VEVENT
END:VCALENDAR
