BEGIN:VCALENDAR
VERSION:2.0
PRODID:-//Squarespace Inc/Squarespace 6//v6//EN
BEGIN:VEVENT
UID:697b8595bdd184546c1325a9@squarespace.com
DTSTAMP:20260129T160704Z
DTSTART:20260305T010000Z
DTEND:20260305T030000Z
SUMMARY:Wednesday Night Bible Study 
END:VEVENT
END:VCALENDAR
