BEGIN:VCALENDAR
VERSION:2.0
PRODID:-//Squarespace Inc/Squarespace 6//v6//EN
BEGIN:VEVENT
UID:697b85bdcec6081e1791a69c@squarespace.com
DTSTAMP:20260129T160756Z
DTSTART:20260319T000000Z
DTEND:20260319T020000Z
SUMMARY:Wednesday Night Bible Study  
END:VEVENT
END:VCALENDAR
