BEGIN:VCALENDAR
VERSION:2.0
PRODID:-//Squarespace Inc/Squarespace 6//v6//EN
BEGIN:VEVENT
UID:697b85e96baefd7a2537a803@squarespace.com
DTSTAMP:20260304T012347Z
DTSTART:20260326T000000Z
DTEND:20260326T020000Z
SUMMARY:Wednesday Night Bible Study   
END:VEVENT
END:VCALENDAR
