BEGIN:VCALENDAR
VERSION:2.0
PRODID:-//Squarespace Inc/Squarespace 6//v6//EN
BEGIN:VEVENT
UID:697b860697b256681a1ec027@squarespace.com
DTSTAMP:20260304T012328Z
DTSTART:20260312T000000Z
DTEND:20260312T020000Z
SUMMARY:Wednesday Night Bible Study  
END:VEVENT
END:VCALENDAR
