BEGIN:VCALENDAR
VERSION:2.0
PRODID:-//Squarespace Inc/Squarespace 6//v6//EN
BEGIN:VEVENT
UID:68f0ec749a26bb1fe4e49ca8@squarespace.com
DTSTAMP:20251016T130226Z
DTSTART:20251018T190000Z
DTEND:20251018T203000Z
SUMMARY:Installation Service
END:VEVENT
END:VCALENDAR
