BEGIN:VCALENDAR
VERSION:2.0
PRODID:-//Squarespace Inc/Squarespace 6//v6//EN
BEGIN:VEVENT
UID:69715d318a154028044f4db5@squarespace.com
DTSTAMP:20260121T232023Z
DTSTART:20260228T000000Z
DTEND:20260228T040000Z
SUMMARY:IF: One Night
GEO:42.595832;-71.007374
LOCATION:Middleton Congregational Church\, 66 Maple Street\, Middleton\, MA
 \, 01949\, United States
END:VEVENT
END:VCALENDAR
