BEGIN:VCALENDAR
VERSION:2.0
PRODID:-//Squarespace Inc/Squarespace 6//v6//EN
BEGIN:VEVENT
UID:686d336665f4805ae2de7f2d@squarespace.com
DTSTAMP:20250708T150941Z
DTSTART:20250722T010000Z
DTEND:20250722T020000Z
SUMMARY:Ice Cream Social Hour
END:VEVENT
END:VCALENDAR
