BEGIN:VCALENDAR
VERSION:2.0
PRODID:-//Squarespace Inc/Squarespace 6//v6//EN
BEGIN:VEVENT
UID:69a862eb7c02680e0e39dcc6@squarespace.com
DTSTAMP:20260318T153027Z
DTSTART:20260402T230000Z
DTEND:20260403T000000Z
SUMMARY:Holy  Thursday Simple Supper
END:VEVENT
END:VCALENDAR
