BEGIN:VCALENDAR
VERSION:2.0
PRODID:-//Squarespace Inc/Squarespace 6//v6//EN
BEGIN:VEVENT
UID:69a86463cee7366b970285b1@squarespace.com
DTSTAMP:20260304T170738Z
DTSTART:20260404T000000Z
DTEND:20260404T010000Z
SUMMARY:Good Friday Open Sanctuary &amp\; Service
END:VEVENT
END:VCALENDAR
