BEGIN:VCALENDAR
VERSION:2.0
PRODID:-//Squarespace Inc/Squarespace 6//v6//EN
BEGIN:VEVENT
UID:688a2da6b3547b22e99857d8@squarespace.com
DTSTAMP:20251029T144245Z
DTSTART:20251116T220000Z
DTEND:20251117T010000Z
SUMMARY:Friendsgiving
GEO:42.595832;-71.007374
LOCATION:Middleton Congregational Church\, 66 Maple Street\, Middleton\, MA
 \, United States
END:VEVENT
END:VCALENDAR
