BEGIN:VCALENDAR
VERSION:2.0
PRODID:-//Squarespace Inc/Squarespace 6//v6//EN
BEGIN:VEVENT
UID:691df5ef69a73c07dfe70799@squarespace.com
DTSTAMP:20251119T165819Z
DTSTART:20251129T160000Z
DTEND:20251129T170000Z
SUMMARY:Food Distribution Bags
END:VEVENT
END:VCALENDAR
