BEGIN:VCALENDAR
VERSION:2.0
PRODID:-//Squarespace Inc/Squarespace 6//v6//EN
BEGIN:VEVENT
UID:6841a97af589d4566d305810@squarespace.com
DTSTAMP:20250605T142944Z
DTSTART:20250608T140000Z
DTEND:20250608T143000Z
SUMMARY:Firefighter Sunday
END:VEVENT
END:VCALENDAR
