BEGIN:VCALENDAR
VERSION:2.0
PRODID:-//Squarespace Inc/Squarespace 6//v6//EN
BEGIN:VEVENT
UID:686e8807e90be82d0bb5c77b@squarespace.com
DTSTAMP:20251109T223647Z
DTSTART:20251113T010000Z
DTEND:20251113T030000Z
SUMMARY:Women's Bible Study   
GEO:42.595832;-71.007374
LOCATION:Middleton Congregational Church\, 66 Maple Street\, Middleton\, MA
 \, United States
END:VEVENT
END:VCALENDAR
