BEGIN:VCALENDAR
VERSION:2.0
PRODID:-//Squarespace Inc/Squarespace 6//v6//EN
BEGIN:VEVENT
UID:686e87f67e0ae4608864ceea@squarespace.com
DTSTAMP:20250812T161206Z
DTSTART:20251106T010000Z
DTEND:20251106T030000Z
SUMMARY:Women's Bible Study  
GEO:42.595832;-71.007374
LOCATION:Middleton Congregational Church\, 66 Maple Street\, Middleton\, MA
 \, United States
END:VEVENT
END:VCALENDAR
