BEGIN:VCALENDAR
VERSION:2.0
PRODID:-//Squarespace Inc/Squarespace 6//v6//EN
BEGIN:VEVENT
UID:689b67d63c7cba62f628e29f@squarespace.com
DTSTAMP:20250812T161301Z
DTSTART:20251106T010000Z
DTEND:20251106T030000Z
SUMMARY:Men's Bible Study
GEO:42.595832;-71.007374
LOCATION:Middleton Congregational Church\, 66 Maple Street\, Middleton\, MA
 \, United States
END:VEVENT
END:VCALENDAR
