BEGIN:VCALENDAR
VERSION:2.0
PRODID:-//Squarespace Inc/Squarespace 6//v6//EN
BEGIN:VEVENT
UID:686e87c11cfa8a3c280bd9d3@squarespace.com
DTSTAMP:20250812T160849Z
DTSTART:20251030T000000Z
DTEND:20251030T020000Z
SUMMARY:Women's Bible Study  
GEO:42.595832;-71.007374
LOCATION:Middleton Congregational Church\, 66 Maple Street\, Middleton\, MA
 \, United States
END:VEVENT
END:VCALENDAR
