BEGIN:VCALENDAR
VERSION:2.0
PRODID:-//Squarespace Inc/Squarespace 6//v6//EN
BEGIN:VEVENT
UID:686e87a6204b1c499932d744@squarespace.com
DTSTAMP:20250812T160830Z
DTSTART:20251023T000000Z
DTEND:20251023T020000Z
SUMMARY:Women's Bible Study   
GEO:42.595832;-71.007374
LOCATION:Middleton Congregational Church\, 66 Maple Street\, Middleton\, MA
 \, United States
END:VEVENT
END:VCALENDAR
