BEGIN:VCALENDAR
VERSION:2.0
PRODID:-//Squarespace Inc/Squarespace 6//v6//EN
BEGIN:VEVENT
UID:686e878f04689144040fe339@squarespace.com
DTSTAMP:20250812T160142Z
DTSTART:20251016T000000Z
DTEND:20251016T020000Z
SUMMARY:Women's Bible Study  
GEO:42.595832;-71.007374
LOCATION:Middleton Congregational Church\, 66 Maple Street\, Middleton\, MA
 \, United States
END:VEVENT
END:VCALENDAR
