BEGIN:VCALENDAR
VERSION:2.0
PRODID:-//Squarespace Inc/Squarespace 6//v6//EN
BEGIN:VEVENT
UID:69de74018ef1730a3cec59a3@squarespace.com
DTSTAMP:20260414T170918Z
DTSTART:20260414T173000Z
DTEND:20260426T030000Z
SUMMARY:Elder Nominations
END:VEVENT
END:VCALENDAR
