BEGIN:VCALENDAR
VERSION:2.0
PRODID:-//Squarespace Inc/Squarespace 6//v6//EN
BEGIN:VEVENT
UID:69022c4b1710dc16a8fc0c6b@squarespace.com
DTSTAMP:20251029T150618Z
DTSTART:20251127T010000Z
DTEND:20251127T020000Z
SUMMARY:Annual Ecumenical Service
GEO:42.591363;-71.017598
LOCATION:St.Agnes Parish\, 22 Boston Street\, Middleton MA\, USA
END:VEVENT
END:VCALENDAR
