BEGIN:VCALENDAR
VERSION:2.0
PRODID:-//Squarespace Inc/Squarespace 6//v6//EN
BEGIN:VEVENT
UID:69a865bc48e3cc7888d5410c@squarespace.com
DTSTAMP:20260304T170501Z
DTSTART:20260405T150000Z
DTEND:20260405T160000Z
SUMMARY:Easter Sunday
END:VEVENT
END:VCALENDAR
