BEGIN:VCALENDAR
VERSION:2.0
PRODID:-//Squarespace Inc/Squarespace 6//v6//EN
BEGIN:VEVENT
UID:6880fa9fef2f5728103e80c6@squarespace.com
DTSTAMP:20250723T151047Z
DTSTART:20250802T140000Z
DTEND:20250802T190000Z
SUMMARY:Middleton Community Scholarship Blood Drive
GEO:42.570131;-71.009941
LOCATION:American Legion Post 227\, 69 River street\, Middleton MA 01949\, 
 United States
END:VEVENT
END:VCALENDAR
