BEGIN:VCALENDAR
VERSION:2.0
PRODID:-//Squarespace Inc/Squarespace 6//v6//EN
BEGIN:VEVENT
UID:69e67702d49cfe289dfcb171@squarespace.com
DTSTAMP:20260420T185836Z
DTSTART:20260614T170000Z
DTEND:20260614T180000Z
SUMMARY:Community BBQ
END:VEVENT
END:VCALENDAR
