BEGIN:VCALENDAR
VERSION:2.0
PRODID:-//Squarespace Inc/Squarespace 6//v6//EN
BEGIN:VEVENT
UID:685ab27149cdd758605697c1@squarespace.com
DTSTAMP:20250624T141553Z
DTSTART:20250907T163000Z
DTEND:20250907T183000Z
SUMMARY:Annual Church BBQ
END:VEVENT
END:VCALENDAR
