BEGIN:VCALENDAR
VERSION:2.0
PRODID:-//Squarespace Inc/Squarespace 6//v6//EN
BEGIN:VEVENT
UID:691df4e057ddbc6414c82d9c@squarespace.com
DTSTAMP:20251119T165122Z
DTSTART:20251215T003000Z
DTEND:20251215T023000Z
SUMMARY:(Annual) Christmas Party
END:VEVENT
END:VCALENDAR
