BEGIN:VCALENDAR
VERSION:2.0
PRODID:-//Squarespace Inc/Squarespace 6//v6//EN
BEGIN:VEVENT
UID:69160ec293727272b939a188@squarespace.com
DTSTAMP:20251113T170213Z
DTSTART:20251225T010000Z
DTEND:20251225T020000Z
SUMMARY:Christmas Eve Service
GEO:42.59583;-71.007376
LOCATION:Middleton Congregational Church\, 66 Maple Street\, Middleton\, MA
 \, United States
END:VEVENT
END:VCALENDAR
