BEGIN:VCALENDAR
VERSION:2.0
PRODID:-//Squarespace Inc/Squarespace 6//v6//EN
BEGIN:VEVENT
UID:691f331a70d44856182f06a7@squarespace.com
DTSTAMP:20251217T173440Z
DTSTART:20260111T173000Z
DTEND:20260111T193000Z
SUMMARY:Chili Cook-off 
GEO:42.595832;-71.007374
LOCATION:Middleton Congregational Church\, 66 Maple Street\, Middleton\, MA
 \, United States
END:VEVENT
END:VCALENDAR
