BEGIN:VCALENDAR
VERSION:2.0
PRODID:-//Squarespace Inc/Squarespace 6//v6//EN
BEGIN:VEVENT
UID:69bac75463faa34a010e384b@squarespace.com
DTSTAMP:20260414T171842Z
DTSTART:20260426T163000Z
DTEND:20260426T173000Z
SUMMARY:Annual Budget Meeting
END:VEVENT
END:VCALENDAR
