BEGIN:VCALENDAR
VERSION:2.0
PRODID:-//Squarespace Inc/Squarespace 6//v6//EN
BEGIN:VEVENT
UID:67f67ae21b53922886921234@squarespace.com
DTSTAMP:20250409T135025Z
DTSTART:20250529T000000Z
DTEND:20250529T010000Z
SUMMARY:How to Read Your Bible
END:VEVENT
END:VCALENDAR
