BEGIN:VCALENDAR
VERSION:2.0
PRODID:-//Squarespace Inc/Squarespace 6//v6//EN
BEGIN:VEVENT
UID:67f67949ffd99341db63ac2b@squarespace.com
DTSTAMP:20250409T134304Z
DTSTART:20250522T000000Z
DTEND:20250522T010000Z
SUMMARY:How to Read Your Bible 
GEO:42.595832;-71.007374
LOCATION:Middleton Congregational Church\, 66 Maple Street\, Middleton\, MA
 \, United States
END:VEVENT
END:VCALENDAR
