BEGIN:VCALENDAR
VERSION:2.0
PRODID:-//Squarespace Inc/Squarespace 6//v6//EN
BEGIN:VEVENT
UID:69e65383df0f9935c9a3f3f6@squarespace.com
DTSTAMP:20260420T163032Z
DTSTART:20260502T133000Z
DTEND:20260502T170000Z
SUMMARY:Church Beautification Day
END:VEVENT
END:VCALENDAR
