BEGIN:VCALENDAR
VERSION:2.0
PRODID:-//Squarespace Inc/Squarespace 6//v6//EN
BEGIN:VEVENT
UID:69715be58a154028044f0258@squarespace.com
DTSTAMP:20260121T231132Z
DTSTART:20260219T010000Z
DTEND:20260219T020000Z
SUMMARY:Ash Wednesday
END:VEVENT
END:VCALENDAR
