BEGIN:VCALENDAR
VERSION:2.0
PRODID:-//Squarespace Inc/Squarespace 6//v6//EN
BEGIN:VEVENT
UID:69bac7a7bb9db025809581f9@squarespace.com
DTSTAMP:20260318T154203Z
DTSTART:20260517T163000Z
DTEND:20260517T173000Z
SUMMARY:Annual Meeting
END:VEVENT
END:VCALENDAR
