BEGIN:VCALENDAR
VERSION:2.0
PRODID:-//Squarespace Inc/Squarespace 6//v6//EN
BEGIN:VEVENT
UID:688a2e178867366e9fc57f4e@squarespace.com
DTSTAMP:20250911T155428Z
DTSTART:20251123T173000Z
DTEND:20251123T183000Z
SUMMARY:Advent Wreath Making
END:VEVENT
END:VCALENDAR
